BEGIN:VCALENDAR
VERSION:2.0
PRODID:-//Prader-Willi Syndrome Association | USA - ECPv6.15.20//NONSGML v1.0//EN
CALSCALE:GREGORIAN
METHOD:PUBLISH
X-WR-CALNAME:Prader-Willi Syndrome Association | USA
X-ORIGINAL-URL:https://www.pwsausa.org
X-WR-CALDESC:Events for Prader-Willi Syndrome Association | USA
REFRESH-INTERVAL;VALUE=DURATION:PT1H
X-Robots-Tag:noindex
X-PUBLISHED-TTL:PT1H
BEGIN:VTIMEZONE
TZID:America/New_York
BEGIN:DAYLIGHT
TZOFFSETFROM:-0500
TZOFFSETTO:-0400
TZNAME:EDT
DTSTART:20250309T070000
END:DAYLIGHT
BEGIN:STANDARD
TZOFFSETFROM:-0400
TZOFFSETTO:-0500
TZNAME:EST
DTSTART:20251102T060000
END:STANDARD
BEGIN:DAYLIGHT
TZOFFSETFROM:-0500
TZOFFSETTO:-0400
TZNAME:EDT
DTSTART:20260308T070000
END:DAYLIGHT
BEGIN:STANDARD
TZOFFSETFROM:-0400
TZOFFSETTO:-0500
TZNAME:EST
DTSTART:20261101T060000
END:STANDARD
BEGIN:DAYLIGHT
TZOFFSETFROM:-0500
TZOFFSETTO:-0400
TZNAME:EDT
DTSTART:20270314T070000
END:DAYLIGHT
BEGIN:STANDARD
TZOFFSETFROM:-0400
TZOFFSETTO:-0500
TZNAME:EST
DTSTART:20271107T060000
END:STANDARD
END:VTIMEZONE
BEGIN:VEVENT
DTSTART;TZID=America/New_York:20260531T120000
DTEND;TZID=America/New_York:20260531T140000
DTSTAMP:20260425T125559
CREATED:20260423T194028Z
LAST-MODIFIED:20260423T194028Z
UID:67045-1780228800-1780236000@www.pwsausa.org
SUMMARY:United We Brunch: Hummus & Watermelon
DESCRIPTION:When: Sunday\, May 31\, 2026 | 12:00 – 2:00 PM CT\nWhere: Countryside Community Church (13130 Faith Plaza\, Omaha\, NE) \nCLICK HERE TO LEARN MORE & RESERVE YOUR SPOT \nJoin Sarah Kasaby and her lovely family for a Special Fundraiser & Awareness Event for Prader-Willi Syndrome (PWS). \nYou are invited to attend “Hummus & Watermelon” in support of PWS Awareness Month this May! The event is taking place on Saturday\, May 31st at the Countryside Community Church in Omaha\, NE. Hummus & Watermelon brings guests together to experience connection\, community\, and purpose. Guests enjoy different dips\, special “Janna Juice” \, creating a warm\, engaging atmosphere that encourages generosity while raising both awareness and critical funds for the Prader-Willi Syndrome Association. In its first year\, this warm\, family-friendly event raised $1\,200\, demonstrating the power of a thoughtfully curated\, community-centered event. With the support of sponsors and partners\, our goal is to continue growing this impact each year. This event isn’t just about fundraising—it’s about education\, connection\, and support. We’re coming together to raise awareness for Prader-Willi Syndrome and to celebrate the ways PWSA | USA lifts up and supports families.
URL:https://www.pwsausa.org/event/united-we-brunch-hummus-watermelon/
LOCATION:Countryside Community Church\, 13130 Faith Plaza\, Omaha\, NE\, 68144\, United States
CATEGORIES:Nebraska
ATTACH;FMTTYPE=image/png:https://www.pwsausa.org/wp-content/uploads/2026/04/Hummus-and-Watermelon.png
END:VEVENT
END:VCALENDAR